BEGIN:VCALENDAR
CALSCALE:GREGORIAN
BEGIN:VEVENT
DTSTAMP:20220915T030054Z
DTSTART:20220913T230000Z
DTEND:20220914T000000Z
SUMMARY:CDA Instructor Led Support 
UID:b8576718-7a24-4cf7-ab7d-bfa69e9147e0
LOCATION:
DESCRIPTION:Thank you for registering to our event! Your tickets are attached to this email. Don't forget to bring them.\n\nWe're looking forward to seeing you there.\n\nHere are the details:\n\nCDA Instructor Led Support \nSeptember 13\, 2022\, 7:00 – 8:00 PM EDT\nOnline Live Instruction
X-ALT-DESC;FMTTYPE=text/html:Thank you for registering to our event! Your tickets are attached to this email. Don't forget to bring them.\n\nWe're looking forward to seeing you there.\n\nHere are the details:<br>CDA Instructor Led Support \nSeptember 13\, 2022\, 7:00 – 8:00 PM EDT\nOnline Live Instruction
END:VEVENT
END:VCALENDAR
