BEGIN:VCALENDAR
CALSCALE:GREGORIAN
BEGIN:VEVENT
DTSTAMP:20220915T030039Z
DTSTART:20220928T050000Z
DTEND:20220929T050000Z
SUMMARY:Confidentiality In Child Care Settings (4)
UID:b3f6eae0-f3e9-4a3b-b22f-8acafff2d91d
LOCATION:2501 Heyward St\, Columbia\, SC 29205\, USA
DESCRIPTION:Thank you for registering to our event! Your tickets are attached to this email. Don't forget to bring them.\n\nWe're looking forward to seeing you there.\n\nHere are the details:\n\nConfidentiality In Child Care Settings (4)\nSeptember 28\, 2022 at 1:00 AM – September 29\, 2022 at 1:00 AM EDT\nHeyward Center\, 2501 Heyward St\, Columbia\, SC 29205\, USA
X-ALT-DESC;FMTTYPE=text/html:Thank you for registering to our event! Your tickets are attached to this email. Don't forget to bring them.\n\nWe're looking forward to seeing you there.\n\nHere are the details:<br>Confidentiality In Child Care Settings (4)\nSeptember 28\, 2022 at 1:00 AM – September 29\, 2022 at 1:00 AM EDT\nHeyward Center\, 2501 Heyward St\, Columbia\, SC 29205\, USA
END:VEVENT
END:VCALENDAR
