BEGIN:VCALENDAR
CALSCALE:GREGORIAN
BEGIN:VEVENT
DTSTAMP:20220915T030005Z
DTSTART:20221006T230000Z
DTEND:20221007T000000Z
SUMMARY:CDA Instructor Led Support 
UID:bb5b77ec-7139-47c6-bf7f-5cc63c46006f
LOCATION:
DESCRIPTION:Thank you for registering to our event! Your tickets are attached to this email. Don't forget to bring them.\n\nWe're looking forward to seeing you there.\n\nHere are the details:\n\nCDA Instructor Led Support \nOctober 6\, 2022\, 7:00 – 8:00 PM EDT\nOnline Live Instruction
X-ALT-DESC;FMTTYPE=text/html:Thank you for registering to our event! Your tickets are attached to this email. Don't forget to bring them.\n\nWe're looking forward to seeing you there.\n\nHere are the details:<br>CDA Instructor Led Support \nOctober 6\, 2022\, 7:00 – 8:00 PM EDT\nOnline Live Instruction
END:VEVENT
END:VCALENDAR
