BEGIN:VCALENDAR
CALSCALE:GREGORIAN
BEGIN:VEVENT
DTSTAMP:20220915T030014Z
DTSTART:20220906T230000Z
DTEND:20220906T230500Z
SUMMARY:Fine Motor Development (2)
UID:be208e50-f257-4f85-b2ec-151d07453fe8
LOCATION:
DESCRIPTION:Thank you for registering to our event! Your tickets are attached to this email. Don't forget to bring them.\n\nLink To Attend:\nhttps://meet679445264.adobeconnect.com/rcds4g94vwdh/\nWe're looking forward to seeing you there.\n\nHere are the details:\n\nFine Motor Development (2)\nSeptember 6\, 2022\, 7:00 – 7:05 PM EDT\nOnline Webinar
X-ALT-DESC;FMTTYPE=text/html:Thank you for registering to our event! Your tickets are attached to this email. Don't forget to bring them.\n\nLink To Attend:\nhttps://meet679445264.adobeconnect.com/rcds4g94vwdh/\nWe're looking forward to seeing you there.\n\nHere are the details:<br>Fine Motor Development (2)\nSeptember 6\, 2022\, 7:00 – 7:05 PM EDT\nOnline Webinar
END:VEVENT
END:VCALENDAR
