BEGIN:VCALENDAR
CALSCALE:GREGORIAN
BEGIN:VEVENT
DTSTAMP:20220915T030032Z
DTSTART:20220826T230000Z
DTEND:20220826T230500Z
SUMMARY:Directors Night Out: Paint and Sip (1)
UID:c51908e7-82a2-44fa-a022-603ad86df4be
LOCATION:1001 Washington St\, Columbia\, SC 29201\, USA
DESCRIPTION:Thank you for registering to our event! Your tickets are attached to this email. Don't forget to bring them.\n\nWe're looking forward to seeing you there.\n\nHere are the details:\n\nDirectors Night Out: Paint and Sip (1)\nAugust 26\, 2022\, 7:00 – 7:05 PM EDT\nEarly Education Career Institute\, 1001 Washington St\, Columbia\, SC 29201\, USA
X-ALT-DESC;FMTTYPE=text/html:Thank you for registering to our event! Your tickets are attached to this email. Don't forget to bring them.\n\nWe're looking forward to seeing you there.\n\nHere are the details:<br>Directors Night Out: Paint and Sip (1)\nAugust 26\, 2022\, 7:00 – 7:05 PM EDT\nEarly Education Career Institute\, 1001 Washington St\, Columbia\, SC 29201\, USA
END:VEVENT
END:VCALENDAR
