BEGIN:VCALENDAR
CALSCALE:GREGORIAN
BEGIN:VEVENT
DTSTAMP:20220915T030119Z
DTSTART:20220902T120000Z
DTEND:20220903T210000Z
SUMMARY:CDA Prep Weekend Intensive (3)
UID:c76e565d-d5a2-431d-b38c-dc23f7530992
LOCATION:1001 Washington St\, Columbia\, SC 29201\, USA
DESCRIPTION:Thank you for registering to our event! Your tickets are attached to this email. Don't forget to bring them.\n\nWe're looking forward to seeing you there.\n\nHere are the details:\n\nCDA Prep Weekend Intensive (3)\nSeptember 2\, 2022 at 8:00 AM – September 3\, 2022 at 5:00 PM EDT\nColumbia\, 1001 Washington St\, Columbia\, SC 29201\, USA
X-ALT-DESC;FMTTYPE=text/html:Thank you for registering to our event! Your tickets are attached to this email. Don't forget to bring them.\n\nWe're looking forward to seeing you there.\n\nHere are the details:<br>CDA Prep Weekend Intensive (3)\nSeptember 2\, 2022 at 8:00 AM – September 3\, 2022 at 5:00 PM EDT\nColumbia\, 1001 Washington St\, Columbia\, SC 29201\, USA
END:VEVENT
END:VCALENDAR
