BEGIN:VCALENDAR
CALSCALE:GREGORIAN
BEGIN:VEVENT
DTSTAMP:20220915T030035Z
DTSTART:20220920T220000Z
DTEND:20220921T000000Z
SUMMARY:SCSU Family Consumer Science CDA 
UID:ca969402-2935-4a02-b81e-f5f8bff3f54c
LOCATION:300 College Ave\, Orangeburg\, SC 29117\, USA
DESCRIPTION:Thank you for registering to our event!\n\nWe're looking forward to seeing you there.\n\nHere are the event details:\n\nSCSU Family Consumer Science CDA \nSeptember 20\, 2022\, 6:00 – 8:00 PM\nSouth Carolina State University\, 300 College Ave\, Orangeburg\, SC 29117\, USA
X-ALT-DESC;FMTTYPE=text/html:Thank you for registering to our event!\n\nWe're looking forward to seeing you there.\n\nHere are the event details:<br>SCSU Family Consumer Science CDA \nSeptember 20\, 2022\, 6:00 – 8:00 PM\nSouth Carolina State University\, 300 College Ave\, Orangeburg\, SC 29117\, USA
END:VEVENT
END:VCALENDAR
