BEGIN:VCALENDAR
CALSCALE:GREGORIAN
BEGIN:VEVENT
DTSTAMP:20220915T030102Z
DTSTART:20220911T140000Z
DTEND:20220911T160000Z
SUMMARY:CPR/First Aid (6)
UID:caa2970d-226b-4845-8362-2ada834a679e
LOCATION:1001 Washington St\, Columbia\, SC 29201\, USA
DESCRIPTION:Thank you for registering to our event! Your tickets are attached to this email. Don't forget to bring them.\n\nWe're looking forward to seeing you there.\n\nHere are the details:\n\nCPR/First Aid (6)\nSeptember 11\, 2022\, 10:00 AM – 12:00 PM EDT\nEarly Education Career Institute\, 1001 Washington St\, Columbia\, SC 29201\, USA
X-ALT-DESC;FMTTYPE=text/html:Thank you for registering to our event! Your tickets are attached to this email. Don't forget to bring them.\n\nWe're looking forward to seeing you there.\n\nHere are the details:<br>CPR/First Aid (6)\nSeptember 11\, 2022\, 10:00 AM – 12:00 PM EDT\nEarly Education Career Institute\, 1001 Washington St\, Columbia\, SC 29201\, USA
END:VEVENT
END:VCALENDAR
