BEGIN:VCALENDAR
CALSCALE:GREGORIAN
BEGIN:VEVENT
DTSTAMP:20220915T030036Z
DTSTART:20220909T220000Z
DTEND:20220911T220000Z
SUMMARY:CDA All In One Weekend Intensive (3)
UID:cd1f6485-4935-46ab-b408-5e068860d0d5
LOCATION:1001 Washington St\, Columbia\, SC 29201\, USA
DESCRIPTION:Thank you for registering to our event! Your tickets are attached to this email. Don't forget to bring them.\n\nWe're looking forward to seeing you there.\n\nHere are the details:\n\nCDA All In One Weekend Intensive (3)\nSeptember 9\, 2022 at 6:00 PM – September 11\, 2022 at 6:00 PM EDT\nColumbia\, 1001 Washington St\, Columbia\, SC 29201\, USA
X-ALT-DESC;FMTTYPE=text/html:Thank you for registering to our event! Your tickets are attached to this email. Don't forget to bring them.\n\nWe're looking forward to seeing you there.\n\nHere are the details:<br>CDA All In One Weekend Intensive (3)\nSeptember 9\, 2022 at 6:00 PM – September 11\, 2022 at 6:00 PM EDT\nColumbia\, 1001 Washington St\, Columbia\, SC 29201\, USA
END:VEVENT
END:VCALENDAR
