BEGIN:VCALENDAR
CALSCALE:GREGORIAN
BEGIN:VEVENT
DTSTAMP:20220915T030117Z
DTSTART:20220903T130000Z
DTEND:20220903T130500Z
SUMMARY:Blood Borne Pathogen (11)
UID:ce939044-94fd-4315-aea9-081cad9eef57
LOCATION:
DESCRIPTION:Thank you for registering to our event! Your tickets are attached to this email. Don't forget to bring them.\n\nWe're looking forward to seeing you there.\n\nHere are the details:\n\nBlood Borne Pathogen (11)\nSeptember 3\, 2022\, 9:00 – 9:05 AM\nOnline Zoom (video optional)
X-ALT-DESC;FMTTYPE=text/html:Thank you for registering to our event! Your tickets are attached to this email. Don't forget to bring them.\n\nWe're looking forward to seeing you there.\n\nHere are the details:<br>Blood Borne Pathogen (11)\nSeptember 3\, 2022\, 9:00 – 9:05 AM\nOnline Zoom (video optional)
END:VEVENT
END:VCALENDAR
