BEGIN:VCALENDAR
CALSCALE:GREGORIAN
BEGIN:VEVENT
DTSTAMP:20220915T030021Z
DTSTART:20220908T230000Z
DTEND:20220909T010000Z
SUMMARY:Planning A Healthy Learning Environment (3)
UID:da0bbfb4-38be-4aeb-bcaa-6139814cdded
LOCATION:1001 Washington St\, Columbia\, SC 29201\, USA
DESCRIPTION:Thank you for registering to our event! Your tickets are attached to this email. Don't forget to bring them.\n\nWe're looking forward to seeing you there.\n\nHere are the details:\n\nPlanning A Healthy Learning Environment (3)\nSeptember 8\, 2022\, 7:00 – 9:00 PM EDT\nEarly Education Career Institute\, 1001 Washington St\, Columbia\, SC 29201\, USA
X-ALT-DESC;FMTTYPE=text/html:Thank you for registering to our event! Your tickets are attached to this email. Don't forget to bring them.\n\nWe're looking forward to seeing you there.\n\nHere are the details:<br>Planning A Healthy Learning Environment (3)\nSeptember 8\, 2022\, 7:00 – 9:00 PM EDT\nEarly Education Career Institute\, 1001 Washington St\, Columbia\, SC 29201\, USA
END:VEVENT
END:VCALENDAR
