BEGIN:VCALENDAR
CALSCALE:GREGORIAN
BEGIN:VEVENT
DTSTAMP:20220915T030112Z
DTSTART:20220927T170000Z
DTEND:20220928T170000Z
SUMMARY:Post Pandemic ECE Training (3)
UID:e60355d4-f567-45c9-bfe0-cd00f6f8eb85
LOCATION:9005 Two Notch Rd\, Columbia\, SC 29223\, USA
DESCRIPTION:Thank you for registering to our event! Your tickets are attached to this email. Don't forget to bring them.\n\nWe're looking forward to seeing you there.\n\nHere are the details:\n\nPost Pandemic ECE Training (3)\nSeptember 27\, 2022 at 1:00 PM – September 28\, 2022 at 1:00 PM\nEarly Education Career Institute\, 9005 Two Notch Rd\, Columbia\, SC 29223\, USA
X-ALT-DESC;FMTTYPE=text/html:Thank you for registering to our event! Your tickets are attached to this email. Don't forget to bring them.\n\nWe're looking forward to seeing you there.\n\nHere are the details:<br>Post Pandemic ECE Training (3)\nSeptember 27\, 2022 at 1:00 PM – September 28\, 2022 at 1:00 PM\nEarly Education Career Institute\, 9005 Two Notch Rd\, Columbia\, SC 29223\, USA
END:VEVENT
END:VCALENDAR
