BEGIN:VCALENDAR
CALSCALE:GREGORIAN
BEGIN:VEVENT
DTSTAMP:20220915T030119Z
DTSTART:20220910T120000Z
DTEND:20220912T210000Z
SUMMARY:CDA All In One Weekend Intensive (1)
UID:e6da1693-1ad1-40aa-990a-9657da0ee118
LOCATION:1001 Washington St\, Columbia\, SC 29201\, USA
DESCRIPTION:Thank you for registering to our event! Your tickets are attached to this email. Don't forget to bring them.\n\nWe're looking forward to seeing you there.\n\nHere are the details:\n\nCDA All In One Weekend Intensive (1)\nSeptember 10\, 2022 at 8:00 AM – September 12\, 2022 at 5:00 PM EDT\nColumbia\, 1001 Washington St\, Columbia\, SC 29201\, USA
X-ALT-DESC;FMTTYPE=text/html:Thank you for registering to our event! Your tickets are attached to this email. Don't forget to bring them.\n\nWe're looking forward to seeing you there.\n\nHere are the details:<br>CDA All In One Weekend Intensive (1)\nSeptember 10\, 2022 at 8:00 AM – September 12\, 2022 at 5:00 PM EDT\nColumbia\, 1001 Washington St\, Columbia\, SC 29201\, USA
END:VEVENT
END:VCALENDAR
