BEGIN:VCALENDAR
CALSCALE:GREGORIAN
BEGIN:VEVENT
DTSTAMP:20220915T030003Z
DTSTART:20220902T230000Z
DTEND:20220902T230500Z
SUMMARY:Paint and Sip!! (3)
UID:e8c456a7-6940-47c5-9a81-d2fddd90d58c
LOCATION:1001 Washington St\, Columbia\, SC 29201\, USA
DESCRIPTION:Thank you for registering to our event! Your tickets are attached to this email. Don't forget to bring them.\n\nWe're looking forward to seeing you there.\n\nHere are the webinar details:\n\nhttps://meet679445264.adobeconnect.com/rbsrvsnxqdb1/\n\nPaint and Sip!! (3)\nSeptember 2\, 2022\, 7:00 – 7:05 PM EDT\nColumbia\, 1001 Washington St\, Columbia\, SC 29201\, USA
X-ALT-DESC;FMTTYPE=text/html:Thank you for registering to our event! Your tickets are attached to this email. Don't forget to bring them.\n\nWe're looking forward to seeing you there.\n\nHere are the webinar details:\n\nhttps://meet679445264.adobeconnect.com/rbsrvsnxqdb1/<br>Paint and Sip!! (3)\nSeptember 2\, 2022\, 7:00 – 7:05 PM EDT\nColumbia\, 1001 Washington St\, Columbia\, SC 29201\, USA
END:VEVENT
END:VCALENDAR
