BEGIN:VCALENDAR
CALSCALE:GREGORIAN
BEGIN:VEVENT
DTSTAMP:20220915T030056Z
DTSTART:20220830T130000Z
DTEND:20220831T130000Z
SUMMARY:Code of Ethics for All Professionals Working With Children  (1)
UID:e2b6011d-7fbd-4c0a-b8e3-f5531ec36c27
LOCATION:1001 Washington St\, Columbia\, SC 29201\, USA
DESCRIPTION:Thank you for registering to our event! Your tickets are attached to this email. Don't forget to bring them.\n\nWe're looking forward to seeing you there.\n\nHere are the details:\n\nCode of Ethics for All Professionals Working With Children  (1)\nAugust 30\, 2022 at 9:00 AM – August 31\, 2022 at 9:00 AM EDT\nEarly Education Career Institute\, 1001 Washington St\, Columbia\, SC 29201\, USA
X-ALT-DESC;FMTTYPE=text/html:Thank you for registering to our event! Your tickets are attached to this email. Don't forget to bring them.\n\nWe're looking forward to seeing you there.\n\nHere are the details:<br>Code of Ethics for All Professionals Working With Children  (1)\nAugust 30\, 2022 at 9:00 AM – August 31\, 2022 at 9:00 AM EDT\nEarly Education Career Institute\, 1001 Washington St\, Columbia\, SC 29201\, USA
END:VEVENT
END:VCALENDAR
