BEGIN:VCALENDAR
CALSCALE:GREGORIAN
BEGIN:VEVENT
DTSTAMP:20220915T030012Z
DTSTART:20220923T220000Z
DTEND:20220926T220000Z
SUMMARY:CDA Prep Weekend Intensive (3)
UID:e3fd8401-41bf-4b79-84be-18e866728f9e
LOCATION:1001 Washington St\, Columbia\, SC 29201\, USA
DESCRIPTION:Thank you for registering to our event! Your tickets are attached to this email. Don't forget to bring them.\n\nWe're looking forward to seeing you there.\n\nHere are the details:\n\nCDA Prep Weekend Intensive (3)\nSeptember 23\, 2022 at 6:00 PM – September 26\, 2022 at 6:00 PM EDT\nColumbia\, 1001 Washington St\, Columbia\, SC 29201\, USA
X-ALT-DESC;FMTTYPE=text/html:Thank you for registering to our event! Your tickets are attached to this email. Don't forget to bring them.\n\nWe're looking forward to seeing you there.\n\nHere are the details:<br>CDA Prep Weekend Intensive (3)\nSeptember 23\, 2022 at 6:00 PM – September 26\, 2022 at 6:00 PM EDT\nColumbia\, 1001 Washington St\, Columbia\, SC 29201\, USA
END:VEVENT
END:VCALENDAR
