BEGIN:VCALENDAR
CALSCALE:GREGORIAN
BEGIN:VEVENT
DTSTAMP:20220915T030132Z
DTSTART:20220830T233000Z
DTEND:20220830T233500Z
SUMMARY:Free CDA Orientation Our Time Together.... (3)
UID:f64e958c-4fe2-4373-84c5-f30952dbeb93
LOCATION:
DESCRIPTION:Thank you for registering to our event! Your tickets are attached to this email. Don't forget to bring them.\n\nWe're looking forward to seeing you there.\n\nHere are the details:\n\nFree CDA Orientation Our Time Together.... (3)\nAugust 30\, 2022\, 7:30 – 7:35 PM EDT\nLive Zoom
X-ALT-DESC;FMTTYPE=text/html:Thank you for registering to our event! Your tickets are attached to this email. Don't forget to bring them.\n\nWe're looking forward to seeing you there.\n\nHere are the details:<br>Free CDA Orientation Our Time Together.... (3)\nAugust 30\, 2022\, 7:30 – 7:35 PM EDT\nLive Zoom
END:VEVENT
END:VCALENDAR
