BEGIN:VCALENDAR
CALSCALE:GREGORIAN
BEGIN:VEVENT
DTSTAMP:20220915T030122Z
DTSTART:20220916T120000Z
DTEND:20220917T210000Z
SUMMARY:CDA Prep Weekend Intensive (4)
UID:f7eb9919-9893-4954-8002-e8f563503fb1
LOCATION:1001 Washington St\, Columbia\, SC 29201\, USA
DESCRIPTION:Thank you for registering to our event! Your tickets are attached to this email. Don't forget to bring them.\n\nWe're looking forward to seeing you there.\n\nHere are the details:\n\nCDA Prep Weekend Intensive (4)\nSeptember 16\, 2022 at 8:00 AM – September 17\, 2022 at 5:00 PM EDT\nColumbia\, 1001 Washington St\, Columbia\, SC 29201\, USA
X-ALT-DESC;FMTTYPE=text/html:Thank you for registering to our event! Your tickets are attached to this email. Don't forget to bring them.\n\nWe're looking forward to seeing you there.\n\nHere are the details:<br>CDA Prep Weekend Intensive (4)\nSeptember 16\, 2022 at 8:00 AM – September 17\, 2022 at 5:00 PM EDT\nColumbia\, 1001 Washington St\, Columbia\, SC 29201\, USA
END:VEVENT
END:VCALENDAR
