BEGIN:VCALENDAR
CALSCALE:GREGORIAN
BEGIN:VEVENT
DTSTAMP:20220915T030027Z
DTSTART:20220829T230000Z
DTEND:20220829T230500Z
SUMMARY:Story Telling: Using Storytelling to bring literacy alive (6)
UID:f2a9f17b-a002-49f6-be37-43ef3325c8e5
LOCATION:1001 Washington St\, Columbia\, SC 29201\, USA
DESCRIPTION:Thank you for registering to our event! Your tickets are attached to this email. Don't forget to bring them.\n\nWe're looking forward to seeing you Here is the link to attend:\n\n	https://meet679445264.adobeconnect.com/ra30quryq6bo/\n\n\nHere are the details:\n\nStory Telling: Using Storytelling to bring literacy alive (6)\nAugust 29\, 2022\, 7:00 – 7:05 PM EDT\nEarly Education Career Institute\, 1001 Washington St\, Columbia\, SC 29201\, USA
X-ALT-DESC;FMTTYPE=text/html:Thank you for registering to our event! Your tickets are attached to this email. Don't forget to bring them.\n\nWe're looking forward to seeing you Here is the link to attend:\n\n	https://meet679445264.adobeconnect.com/ra30quryq6bo/\n\n\nHere are the details:<br>Story Telling: Using Storytelling to bring literacy alive (6)\nAugust 29\, 2022\, 7:00 – 7:05 PM EDT\nEarly Education Career Institute\, 1001 Washington St\, Columbia\, SC 29201\, USA
END:VEVENT
END:VCALENDAR
